BEGIN:VCALENDAR
VERSION:2.0
PRODID:-//Highland Games and Festivals - ECPv5.9.1//NONSGML v1.0//EN
CALSCALE:GREGORIAN
METHOD:PUBLISH
X-WR-CALNAME:Highland Games and Festivals
X-ORIGINAL-URL:https://highlandgamesandfestivals.com
X-WR-CALDESC:Events for Highland Games and Festivals
BEGIN:VTIMEZONE
TZID:America/Los_Angeles
BEGIN:DAYLIGHT
TZOFFSETFROM:-0800
TZOFFSETTO:-0700
TZNAME:PDT
DTSTART:20250309T100000
END:DAYLIGHT
BEGIN:STANDARD
TZOFFSETFROM:-0700
TZOFFSETTO:-0800
TZNAME:PST
DTSTART:20251102T090000
END:STANDARD
END:VTIMEZONE
BEGIN:VEVENT
DTSTART;VALUE=DATE:20250621
DTEND;VALUE=DATE:20250622
DTSTAMP:20260423T192350
CREATED:20241205T231831Z
LAST-MODIFIED:20241205T231831Z
UID:8225-1750464000-1750550399@highlandgamesandfestivals.com
SUMMARY:23rd Annual Prosser Scottish Fest & Highland Games!
DESCRIPTION:Learn more on their website here: https://prosserscottishfest.org
URL:https://highlandgamesandfestivals.com/event/23rd-annual-prosser-scottish-fest-highland-games/
LOCATION:Prosser Wine and Food Park\, 2880 Lee Rd\, Prosser\, WA\, 99350\, United States
CATEGORIES:Highland Games
ATTACH;FMTTYPE=image/jpeg:https://highlandgamesandfestivals.com/wp-content/uploads/2023/02/Prosser.jpeg
END:VEVENT
END:VCALENDAR