BEGIN:VCALENDAR
VERSION:2.0
PRODID:-//Highland Games and Festivals - ECPv5.9.1//NONSGML v1.0//EN
CALSCALE:GREGORIAN
METHOD:PUBLISH
X-WR-CALNAME:Highland Games and Festivals
X-ORIGINAL-URL:https://highlandgamesandfestivals.com
X-WR-CALDESC:Events for Highland Games and Festivals
BEGIN:VTIMEZONE
TZID:America/Los_Angeles
BEGIN:DAYLIGHT
TZOFFSETFROM:-0800
TZOFFSETTO:-0700
TZNAME:PDT
DTSTART:20250309T100000
END:DAYLIGHT
BEGIN:STANDARD
TZOFFSETFROM:-0700
TZOFFSETTO:-0800
TZNAME:PST
DTSTART:20251102T090000
END:STANDARD
END:VTIMEZONE
BEGIN:VEVENT
DTSTART;VALUE=DATE:20251024
DTEND;VALUE=DATE:20251027
DTSTAMP:20260424T003527
CREATED:20250319T180844Z
LAST-MODIFIED:20250319T180844Z
UID:8661-1761264000-1761523199@highlandgamesandfestivals.com
SUMMARY:Tucson Celtic Festival and Scottish Highland Games
DESCRIPTION:Learn more on their website: http://www.tucsoncelticfestival.org/
URL:https://highlandgamesandfestivals.com/event/tucson-celtic-festival-and-scottish-highland-games/
LOCATION:Rillito Raceway Park\, 4502 N. First Ave\, Tucscon\, AZ\, 85704\, United States
CATEGORIES:Highland Games
ATTACH;FMTTYPE=image/jpeg:https://highlandgamesandfestivals.com/wp-content/uploads/2024/02/tucson.jpeg
END:VEVENT
END:VCALENDAR