BEGIN:VCALENDAR
VERSION:2.0
PRODID:-//Highland Games and Festivals - ECPv5.9.1//NONSGML v1.0//EN
CALSCALE:GREGORIAN
METHOD:PUBLISH
X-WR-CALNAME:Highland Games and Festivals
X-ORIGINAL-URL:https://highlandgamesandfestivals.com
X-WR-CALDESC:Events for Highland Games and Festivals
BEGIN:VTIMEZONE
TZID:America/Los_Angeles
BEGIN:DAYLIGHT
TZOFFSETFROM:-0800
TZOFFSETTO:-0700
TZNAME:PDT
DTSTART:20260308T100000
END:DAYLIGHT
BEGIN:STANDARD
TZOFFSETFROM:-0700
TZOFFSETTO:-0800
TZNAME:PST
DTSTART:20261101T090000
END:STANDARD
END:VTIMEZONE
BEGIN:VEVENT
DTSTART;VALUE=DATE:20260430
DTEND;VALUE=DATE:20260504
DTSTAMP:20260421T030257
CREATED:20251010T002429Z
LAST-MODIFIED:20251010T002429Z
UID:9851-1777507200-1777852799@highlandgamesandfestivals.com
SUMMARY:Australian Celtic Festival 2026
DESCRIPTION:Learn more on their website at: https://australiancelticfestival.com
URL:https://highlandgamesandfestivals.com/event/australian-celtic-festival-2026/
LOCATION:Australian Standing Stones\, Watsons Dr\, Glen Innes\, NSW\, 2370\, Australia
CATEGORIES:Highland Games,Scottish Heritage or Celtic Festivals
ATTACH;FMTTYPE=image/png:https://highlandgamesandfestivals.com/wp-content/uploads/2023/11/Screen-Shot-2023-11-17-at-2.00.59-PM.png
END:VEVENT
BEGIN:VEVENT
DTSTART;VALUE=DATE:20260501
DTEND;VALUE=DATE:20260504
DTSTAMP:20260421T030257
CREATED:20251009T235854Z
LAST-MODIFIED:20251009T235854Z
UID:9834-1777593600-1777852799@highlandgamesandfestivals.com
SUMMARY:Decatur Celtic Festival
DESCRIPTION:Learn more on their website at: https://www.decaturcelticfestival.com
URL:https://highlandgamesandfestivals.com/event/decatur-celtic-festival-2/
LOCATION:Wise County Fairgrounds\, 3101 FM 51\, Decatur\, TX\, 76234\, United States
CATEGORIES:Highland Games,Scottish Heritage or Celtic Festivals
ATTACH;FMTTYPE=image/png:https://highlandgamesandfestivals.com/wp-content/uploads/2025/10/Screen-Shot-2025-10-09-at-4.58.44-PM.png
END:VEVENT
BEGIN:VEVENT
DTSTART;VALUE=DATE:20260502
DTEND;VALUE=DATE:20260503
DTSTAMP:20260421T030257
CREATED:20251010T000926Z
LAST-MODIFIED:20251010T000951Z
UID:9843-1777680000-1777766399@highlandgamesandfestivals.com
SUMMARY:Savannah Scottish Games & Celtic Festival
DESCRIPTION:Learn more on their website at: https://www.savannahscottishgames.com
URL:https://highlandgamesandfestivals.com/event/savannah-scottish-games-2/
LOCATION:Bethesda Academy\, 9570 Ferguson Ave.\, Savannah\, GA\, 31406\, United States
ATTACH;FMTTYPE=image/jpeg:https://highlandgamesandfestivals.com/wp-content/uploads/2023/11/329234494_1323999678378690_9211854168906867177_n.jpeg
END:VEVENT
BEGIN:VEVENT
DTSTART;VALUE=DATE:20260516
DTEND;VALUE=DATE:20260518
DTSTAMP:20260421T030257
CREATED:20251010T001328Z
LAST-MODIFIED:20251010T001328Z
UID:9846-1778889600-1779062399@highlandgamesandfestivals.com
SUMMARY:Smoky Mountain Scottish Festival and Games
DESCRIPTION:Learn more on their website at: https://www.smokymountaingames.org
URL:https://highlandgamesandfestivals.com/event/smoky-mountain-scottish-festival-and-games-2/
LOCATION:Greater Smokies Event Grounds\, 7930 E. Lamar Alexander Pkwy.\, Townsend\, TN\, 37882\, United States
CATEGORIES:Highland Games,Scottish Heritage or Celtic Festivals
ATTACH;FMTTYPE=image/png:https://highlandgamesandfestivals.com/wp-content/uploads/2024/01/Smoky-.png
END:VEVENT
BEGIN:VEVENT
DTSTART;VALUE=DATE:20260516
DTEND;VALUE=DATE:20260517
DTSTAMP:20260421T030257
CREATED:20251013T192757Z
LAST-MODIFIED:20251013T192757Z
UID:9907-1778889600-1778975999@highlandgamesandfestivals.com
SUMMARY:The 64th Fair Hill Scottish Games
DESCRIPTION:Learn more on their website at: https://fairhillscottishgames.org
URL:https://highlandgamesandfestivals.com/event/the-64th-fair-hill-scottish-games/
LOCATION:Fair Hill Fairgrounds\, 4600 Telegraph Road\, Elkton\, MD\, 21921\, United States
CATEGORIES:Highland Games,Scottish Heritage or Celtic Festivals
ATTACH;FMTTYPE=image/jpeg:https://highlandgamesandfestivals.com/wp-content/uploads/2023/11/Fair_Hill_Scottish_Games_Logo_-_SQR_-_Blue.jpeg
END:VEVENT
BEGIN:VEVENT
DTSTART;VALUE=DATE:20260522
DTEND;VALUE=DATE:20260525
DTSTAMP:20260421T030257
CREATED:20251013T193740Z
LAST-MODIFIED:20251013T193740Z
UID:9912-1779408000-1779667199@highlandgamesandfestivals.com
SUMMARY:Alma Highland Festival & Games
DESCRIPTION:Learn more on their website at: https://www.almahighlandfestival.com
URL:https://highlandgamesandfestivals.com/event/alma-highland-festival-games/
LOCATION:Alma College\, 614 W. Superior St.\, Alma\, MI\, 48801\, United States
CATEGORIES:Highland Games,Scottish Heritage or Celtic Festivals
ATTACH;FMTTYPE=image/png:https://highlandgamesandfestivals.com/wp-content/uploads/2023/11/Alma_AHF_Lion.png
END:VEVENT
BEGIN:VEVENT
DTSTART;VALUE=DATE:20260606
DTEND;VALUE=DATE:20260608
DTSTAMP:20260421T030257
CREATED:20251010T000544Z
LAST-MODIFIED:20251010T000735Z
UID:9840-1780704000-1780876799@highlandgamesandfestivals.com
SUMMARY:Georgia Mountain Scottish Festival
DESCRIPTION:Learn more on their website at: https://gamtnscottishfestival.org
URL:https://highlandgamesandfestivals.com/event/georgia-mountain-scottish-festival/
LOCATION:Georgia Mountain Fairgrounds\, 1311 Music Hall Rd\, Hiawassee\, 30546
CATEGORIES:Highland Games,Scottish Heritage or Celtic Festivals
ATTACH;FMTTYPE=image/png:https://highlandgamesandfestivals.com/wp-content/uploads/2025/10/Screen-Shot-2025-10-09-at-5.07.01-PM.png
END:VEVENT
BEGIN:VEVENT
DTSTART;VALUE=DATE:20260606
DTEND;VALUE=DATE:20260608
DTSTAMP:20260421T030257
CREATED:20251013T191222Z
LAST-MODIFIED:20251013T191222Z
UID:9894-1780704000-1780876799@highlandgamesandfestivals.com
SUMMARY:Yosemite Chivalry & Fantasy Festival
DESCRIPTION:Learn more on their website at: https://www.chivalryandfantasyfestival.com
URL:https://highlandgamesandfestivals.com/event/yosemite-chivalry-fantasy-festival-2/
LOCATION:Mariposa County Fairgrounds\, 5007 Fairgrounds Road\, Mariposa\, CA\, 95338\, United States
CATEGORIES:Scottish Heritage or Celtic Festivals
ATTACH;FMTTYPE=image/png:https://highlandgamesandfestivals.com/wp-content/uploads/2025/10/Screen-Shot-2025-10-13-at-12.11.46-PM.png
END:VEVENT
BEGIN:VEVENT
DTSTART;VALUE=DATE:20260620
DTEND;VALUE=DATE:20260621
DTSTAMP:20260421T030257
CREATED:20251010T002008Z
LAST-MODIFIED:20251010T002008Z
UID:9849-1781913600-1781999999@highlandgamesandfestivals.com
SUMMARY:West Virginia Wild and Wonderful Celtic Festival and Highland Games
DESCRIPTION:Learn more on their website at: https://www.wvcelticfestandgames.com
URL:https://highlandgamesandfestivals.com/event/west-virginia-wild-and-wonderful-celtic-festival-and-highland-games-2/
LOCATION:4H Camp Pioneer\, 38 Pioneer Circle\, Kings Run Rd\, 26253\, WV\, 26253\, United States
CATEGORIES:Highland Games,Scottish Heritage or Celtic Festivals
ATTACH;FMTTYPE=image/jpeg:https://highlandgamesandfestivals.com/wp-content/uploads/2023/09/650d98ca8ff26-copy.jpg
END:VEVENT
BEGIN:VEVENT
DTSTART;VALUE=DATE:20260620
DTEND;VALUE=DATE:20260622
DTSTAMP:20260421T030257
CREATED:20251013T185437Z
LAST-MODIFIED:20251013T185437Z
UID:9885-1781913600-1782086399@highlandgamesandfestivals.com
SUMMARY:California Celtic Fest
DESCRIPTION:Learn more on their website at: https://www.californiacelticfest.com
URL:https://highlandgamesandfestivals.com/event/california-celtic-fest/
LOCATION:Kraemer Park\, 201 Bradford Ave\, Placentia\, CA\, 92870\, United States
CATEGORIES:Highland Games,Scottish Heritage or Celtic Festivals
ATTACH;FMTTYPE=image/jpeg:https://highlandgamesandfestivals.com/wp-content/uploads/2025/10/californiacelticfest.jpg
END:VEVENT
BEGIN:VEVENT
DTSTART;VALUE=DATE:20260626
DTEND;VALUE=DATE:20260628
DTSTAMP:20260421T030257
CREATED:20251013T194050Z
LAST-MODIFIED:20251013T194050Z
UID:9914-1782432000-1782604799@highlandgamesandfestivals.com
SUMMARY:The Holland Celtic Festival  and Highland Games
DESCRIPTION:Learn more on their website at: https://hollandcelticfestival.org
URL:https://highlandgamesandfestivals.com/event/the-holland-celtic-festival-and-highland-games/
LOCATION:Ottawa County Fairgrounds\, 1286 Ottawa Beach Rd\, Holland\, MI\, 49424\, United States
CATEGORIES:Highland Games,Scottish Heritage or Celtic Festivals
ATTACH;FMTTYPE=image/png:https://highlandgamesandfestivals.com/wp-content/uploads/2023/03/cropped-HWCF_final_color.png
END:VEVENT
BEGIN:VEVENT
DTSTART;VALUE=DATE:20260627
DTEND;VALUE=DATE:20260628
DTSTAMP:20260421T030257
CREATED:20251013T191611Z
LAST-MODIFIED:20251013T191611Z
UID:9898-1782518400-1782604799@highlandgamesandfestivals.com
SUMMARY:Cortez Celtic Fair
DESCRIPTION:Learn more on their website at: https://cortezcelticfair.com
URL:https://highlandgamesandfestivals.com/event/cortez-celtic-fair-2/
LOCATION:Parque de Vida\, R008724\, Cortez\, CO\, 81321\, United States
CATEGORIES:Highland Games,Scottish Heritage or Celtic Festivals
ATTACH;FMTTYPE=image/png:https://highlandgamesandfestivals.com/wp-content/uploads/2022/02/Cortez-Celtic-Fair-Logo2X.png
END:VEVENT
BEGIN:VEVENT
DTSTART;VALUE=DATE:20260710
DTEND;VALUE=DATE:20260712
DTSTAMP:20260421T030257
CREATED:20251013T194624Z
LAST-MODIFIED:20251013T194624Z
UID:9919-1783641600-1783814399@highlandgamesandfestivals.com
SUMMARY:Michigan Celtic Festival
DESCRIPTION:Learn more on their website at: https://highlandgames.com
URL:https://highlandgamesandfestivals.com/event/michigan-celtic-festival-2/
LOCATION:Washtenaw Farm Council Grounds\, 5055 Ann Arbor Saline Road\, Ann Arbor\, MI\, 48103\, United States
CATEGORIES:Highland Games,Scottish Heritage or Celtic Festivals
ATTACH;FMTTYPE=image/png:https://highlandgamesandfestivals.com/wp-content/uploads/2024/12/Screen-Shot-2024-12-05-at-2.17.41-PM.png
END:VEVENT
BEGIN:VEVENT
DTSTART;VALUE=DATE:20260731
DTEND;VALUE=DATE:20260802
DTSTAMP:20260421T030257
CREATED:20251013T194327Z
LAST-MODIFIED:20251013T194327Z
UID:9917-1785456000-1785628799@highlandgamesandfestivals.com
SUMMARY:St Andrew's of Detroit 177th Highland Games
DESCRIPTION:Learn more on their website at: https://highlandgames.com
URL:https://highlandgamesandfestivals.com/event/st-andrews-of-detroit-177th-highland-games/
LOCATION:Greenmead Historical Village\, 20501 Newburgh Rd.\, Livonia\, MI\, 48152\, United States
CATEGORIES:Highland Games,Scottish Heritage or Celtic Festivals
ATTACH;FMTTYPE=image/jpeg:https://highlandgamesandfestivals.com/wp-content/uploads/2022/02/Highland-GamesDetroit.jpeg
END:VEVENT
BEGIN:VEVENT
DTSTART;VALUE=DATE:20260807
DTEND;VALUE=DATE:20260810
DTSTAMP:20260421T030257
CREATED:20260116T203123Z
LAST-MODIFIED:20260116T203123Z
UID:9994-1786060800-1786319999@highlandgamesandfestivals.com
SUMMARY:Fergus Scottish Festival & Highland Games
DESCRIPTION:The Fergus Scottish Festival & Highland Games is an annual three-day event that celebrates local Scottish heritage and features world-renowned talent and entertainment in the beautiful town of Fergus\, Ontario. This year’s Festival features Heavy Events Competitions\, Pipe Band Competitions\, Highland Dancers\, over 50 Clans\, Heritage Village\, Whisky Tasting\, McKiddie’s activities\, Celtic musicians and international vendors featuring Scottish wares and fares!\nTickets range from $0 – $145. Children 12 and under are admitted for free when accompanied by an adult\, Seniors 60+ and Youth 13-18 have discounted pricing.\nhttps://fergusscottishfestival.com
URL:https://highlandgamesandfestivals.com/event/fergus-scottish-festival-highland-games-2/
LOCATION:Centre Wellington Sportsplex\, 550 Belsyde Ave E\, Fergus\, Ontario\, N1M 2W5\, Canada
CATEGORIES:Highland Games,Scottish Heritage or Celtic Festivals
ATTACH;FMTTYPE=image/jpeg:https://highlandgamesandfestivals.com/wp-content/uploads/2026/01/696547761fc9e.jpg
END:VEVENT
BEGIN:VEVENT
DTSTART;VALUE=DATE:20260904
DTEND;VALUE=DATE:20260907
DTSTAMP:20260421T030257
CREATED:20251103T173233Z
LAST-MODIFIED:20251103T173233Z
UID:9981-1788480000-1788739199@highlandgamesandfestivals.com
SUMMARY:Masters World Championship Driewegen 2026
DESCRIPTION:Learn more on their website at: https://wcsmasters-driewegen2026.nl
URL:https://highlandgamesandfestivals.com/event/masters-world-championship-driewegen-2026/
LOCATION:PA
ATTACH;FMTTYPE=image/png:https://highlandgamesandfestivals.com/wp-content/uploads/2025/11/690122c865166.png
END:VEVENT
BEGIN:VEVENT
DTSTART;VALUE=DATE:20260905
DTEND;VALUE=DATE:20260907
DTSTAMP:20260421T030257
CREATED:20251013T190741Z
LAST-MODIFIED:20251013T190741Z
UID:9888-1788566400-1788739199@highlandgamesandfestivals.com
SUMMARY:160th Scottish Highland Gathering & Games\, Pleasanton
DESCRIPTION:Learn more on their website at: https://thescottishgames.com
URL:https://highlandgamesandfestivals.com/event/160th-scottish-highland-gathering-games-pleasanton/
LOCATION:Alameda county Fairgrounds\, 4501 Pleasanton Ave.\, Pleasanton\, CA\, 94566\, United States
CATEGORIES:Highland Games,Scottish Heritage or Celtic Festivals
END:VEVENT
BEGIN:VEVENT
DTSTART;VALUE=DATE:20260911
DTEND;VALUE=DATE:20260913
DTSTAMP:20260421T030257
CREATED:20251013T183946Z
LAST-MODIFIED:20251013T183946Z
UID:9882-1789084800-1789257599@highlandgamesandfestivals.com
SUMMARY:Schots Weekend
DESCRIPTION:Learn more on their website at: https://schotsweekend.be
URL:https://highlandgamesandfestivals.com/event/schots-weekend-2/
LOCATION:Alden Biesen\, Bilzen\, Limburg\, Belgium\, Belgium
ATTACH;FMTTYPE=image/png:https://highlandgamesandfestivals.com/wp-content/uploads/2024/10/Screen-Shot-2024-10-30-at-11.13.24-AM.png
END:VEVENT
BEGIN:VEVENT
DTSTART;VALUE=DATE:20260912
DTEND;VALUE=DATE:20260913
DTSTAMP:20260421T030257
CREATED:20260220T202824Z
LAST-MODIFIED:20260220T202824Z
UID:10015-1789171200-1789257599@highlandgamesandfestivals.com
SUMMARY:Covenanter Scottish Festival & Highland Games
DESCRIPTION:The Covenanter Scottish Festival will feature Highland Games & Solo Piping & Drumming Competitions. Sixty- five athletes competed in the Games last year & more athletes are expected this year. The festival will also offer Scottish entertainment\, heritage events including sheep herding & a Gaelic workshop\, Scottish food\, clans\, vendors & much more!\nhttps://www.covenanterscottishfestival.com
URL:https://highlandgamesandfestivals.com/event/covenanter-scottish-festival-highland-games/
LOCATION:Covenanter Presbyterian Church\, 1199 Valley Road\, Quarryville\, PA\, 17566\, United States
CATEGORIES:Highland Games,Scottish Heritage or Celtic Festivals
ATTACH;FMTTYPE=image/jpeg:https://highlandgamesandfestivals.com/wp-content/uploads/2026/02/Highland-Games-2020.jpg
END:VEVENT
BEGIN:VEVENT
DTSTART;VALUE=DATE:20260925
DTEND;VALUE=DATE:20260928
DTSTAMP:20260421T030257
CREATED:20260116T204449Z
LAST-MODIFIED:20260116T204545Z
UID:9998-1790294400-1790553599@highlandgamesandfestivals.com
SUMMARY:Scots-Irish Festival
DESCRIPTION:Find out more on their website at: https://www.scotsirishfestival.com
URL:https://highlandgamesandfestivals.com/event/scots-irish-festival/
LOCATION:Dandridge Main Street\, Dandridge\, TN\, 37725\, United States
CATEGORIES:Highland Games,Scottish Heritage or Celtic Festivals
ATTACH;FMTTYPE=image/png:https://highlandgamesandfestivals.com/wp-content/uploads/2026/01/Screen-Shot-2026-01-16-at-12.44.39-PM.png
END:VEVENT
BEGIN:VEVENT
DTSTART;VALUE=DATE:20260926
DTEND;VALUE=DATE:20260928
DTSTAMP:20260421T030257
CREATED:20251013T192452Z
LAST-MODIFIED:20251013T192452Z
UID:9905-1790380800-1790553599@highlandgamesandfestivals.com
SUMMARY:Colorado Scottish Festival
DESCRIPTION:Learn more on their website at: https://www.scottishgames.org
URL:https://highlandgamesandfestivals.com/event/colorado-scottish-festival-2/
LOCATION:Denver Polo Club\, 6359 Airport Road\, Sedalia\, CO\, 80135\, United States
CATEGORIES:Highland Games,Scottish Heritage or Celtic Festivals
ATTACH;FMTTYPE=image/png:https://highlandgamesandfestivals.com/wp-content/uploads/2024/02/Asset-1.png
END:VEVENT
END:VCALENDAR