BEGIN:VCALENDAR
VERSION:2.0
PRODID:-//Highland Games and Festivals - ECPv5.9.1//NONSGML v1.0//EN
CALSCALE:GREGORIAN
METHOD:PUBLISH
X-WR-CALNAME:Highland Games and Festivals
X-ORIGINAL-URL:https://highlandgamesandfestivals.com
X-WR-CALDESC:Events for Highland Games and Festivals
BEGIN:VTIMEZONE
TZID:America/Los_Angeles
BEGIN:DAYLIGHT
TZOFFSETFROM:-0800
TZOFFSETTO:-0700
TZNAME:PDT
DTSTART:20250309T100000
END:DAYLIGHT
BEGIN:STANDARD
TZOFFSETFROM:-0700
TZOFFSETTO:-0800
TZNAME:PST
DTSTART:20251102T090000
END:STANDARD
END:VTIMEZONE
BEGIN:VEVENT
DTSTART;VALUE=DATE:20250809
DTEND;VALUE=DATE:20250810
DTSTAMP:20260421T025950
CREATED:20250319T193428Z
LAST-MODIFIED:20250319T193428Z
UID:8729-1754697600-1754783999@highlandgamesandfestivals.com
SUMMARY:Strathpeffer Highland Gathering
DESCRIPTION:Follow their FB page here: https://www.facebook.com/Strathgathering
URL:https://highlandgamesandfestivals.com/event/strathpeffer-highland-gathering/
LOCATION:Castle Leod\, Strathpeffer\, Scotland\, IV14 9AA\, United Kingdom
CATEGORIES:Events in Scotland,Highland Games
ATTACH;FMTTYPE=image/jpeg:https://highlandgamesandfestivals.com/wp-content/uploads/2021/03/Scotland.jpg
END:VEVENT
END:VCALENDAR